BEGIN:VCALENDAR
VERSION:2.0
METHOD:PUBLISH
X-WR-CALNAME;VALUE=TEXT:
PRODID:-//Drupal iCal API//EN
BEGIN:VEVENT
2026-03-26 05:30:00 AEDT
2026-03-26 07:00:00 AEDT
DTSTART:20260325T183000Z
DTEND:20260325T200000Z
SUMMARY:a Butterfly: Book Launch &amp; Author Talk
UID:fe05659e-465a-44e4-81e9-ec24eef77a75
URL:https://genderinstitute.anu.edu.au/events/butterfly-book-launch-author-talk
END:VEVENT
END:VCALENDAR
