BEGIN:VCALENDAR
VERSION:2.0
METHOD:PUBLISH
X-WR-CALNAME;VALUE=TEXT:
PRODID:-//Drupal iCal API//EN
BEGIN:VEVENT
2023-03-07 10:00:00 AEDT
2023-03-26 07:00:00 AEDT
DTSTART:20230307T110000Z
DTEND:20230325T200000Z
SUMMARY:Present Tending
UID:338c6675-788a-449b-a423-3f30d957f5f4
URL:https://genderinstitute.anu.edu.au/events/present-tending
END:VEVENT
END:VCALENDAR
