BEGIN:VCALENDAR
VERSION:2.0
METHOD:PUBLISH
X-WR-CALNAME;VALUE=TEXT:
PRODID:-//Drupal iCal API//EN
BEGIN:VEVENT
2011-03-08 01:00:00 AEDT
2011-03-08 02:00:00 AEDT
DTSTART:20110307T140000Z
DTEND:20110307T150000Z
SUMMARY:2011 Join me on the bridge
UID:b63d471d-f2c2-4fbd-8a6f-59ce9556e550
URL:https://genderinstitute.anu.edu.au/events/2011-join-me-bridge
END:VEVENT
END:VCALENDAR
